BEGIN:VCALENDAR
PRODID:-//eluceo/ical//2.0/EN
VERSION:2.0
CALSCALE:GREGORIAN
BEGIN:VEVENT
UID:b6a4b41a18199c67a0825181f5d39e65
DTSTAMP:20260420T124026Z
SUMMARY:Vendredi 7 décembre : Comité à 11h
DESCRIPTION:
URL:https://lyon-croix-rousse.rotary1710.org/en/agenda/show/13979
DTSTART;TZID=Europe/Zurich:20181207T000000
DTEND;TZID=Europe/Zurich:20181207T000000
LOCATION:Hôtel Mercure Lyon  Centre Saxe Lafayette
CATEGORIES:Rotary
END:VEVENT
BEGIN:VTIMEZONE
TZID:Europe/Zurich
BEGIN:STANDARD
DTSTART:20181207T000000
TZNAME:CET
TZOFFSETTO:+0100
TZOFFSETFROM:+0100
END:STANDARD
END:VTIMEZONE
END:VCALENDAR
